BEGIN:VCALENDAR
VERSION:2.0
PRODID:-//eventon.com NONSGML v1.0//EN
BEGIN:VEVENT
UID:69e9da7c68095
DTSTAMP:20260423T103820
DTSTART:20240711T210000Z
DTEND:20240711T235000Z
TZID:Europe/Madrid
LOCATION:Teatro Cervantes Calle Poeta Villaespesa\,  1\,  04001 Almería
SUMMARY:LA ZAPATERA PRODIGIOSA
DESCRIPTION: ✨ ¡No te pierdas la nueva obra de ‘Las Cruces Teatro’! ✨ «La zapatera prodigiosa» de Federico García Lorca Una joven de 18 años recién casada con un zapatero de más de 50 se enfrenta a todo el pueblo y a sus prejuicios. Nuestra valiente zapatera desafía las normas establecidas[..]\nhttps://www.turismodealmeria.org/evento/la-zapatera-prodigiosa-2/
URL:https://www.turismodealmeria.org/evento/la-zapatera-prodigiosa-2/
END:VEVENT
END:VCALENDAR