BEGIN:VCALENDAR
VERSION:2.0
PRODID:-//eventon.com NONSGML v1.0//EN
BEGIN:VEVENT
UID:69e6338e8bd7f
DTSTAMP:20260420T160918
DTSTART:20240831T213000Z
DTEND:20240831T235000Z
TZID:Europe/Madrid
LOCATION:Paseo marítimo cabo de gata 
SUMMARY:CABO DE GATA NOCHE FLAMENCA
DESCRIPTION: CABO DE GATA NOCHE FLAMENCA\nhttps://www.turismodealmeria.org/evento/cabo-de-gata-noche-flamenca/
URL:https://www.turismodealmeria.org/evento/cabo-de-gata-noche-flamenca/
END:VEVENT
END:VCALENDAR