BEGIN:VCALENDAR
VERSION:2.0
PRODID:-//eventon.com NONSGML v1.0//EN
BEGIN:VEVENT
UID:69e9d92908c69
DTSTAMP:20260423T103241
DTSTART:20240928T220000Z
DTEND:20240928T235000Z
TZID:Europe/Madrid
LOCATION:Berlin Social Club Parque de Nicolás Salmerón\,  9\,  Bajo 2\,  04001 Almería
SUMMARY:LINKOLN PARK - TRIBUTO A LINKIN PARK
DESCRIPTION: LINKOLN PARK - TRIBUTO A LINKIN PARK\nhttps://www.turismodealmeria.org/evento/linkoln-park-tributo-a-linkin-park/
URL:https://www.turismodealmeria.org/evento/linkoln-park-tributo-a-linkin-park/
END:VEVENT
END:VCALENDAR