BEGIN:VCALENDAR
VERSION:2.0
PRODID:-//eventon.com NONSGML v1.0//EN
BEGIN:VEVENT
UID:69eb3bf203380
DTSTAMP:20260424T114626
DTSTART:20250519T200000Z
DTEND:20250519T235000Z
TZID:Europe/Madrid
LOCATION:Teatro Cervantes Calle Poeta Villaespesa\,  1\,  04001 Almería
SUMMARY:ENCUENTROS CON DIRECTORES DE CINE
DESCRIPTION: Fundación Unicaja celebra una nueva sesión de su ciclo &#8220;Encuentros con directores de cine&#8221; que recibe el próximo lunes 19 de mayo al director José Manuel Carrasco y su película &#8220;Miocardio&#8221; La proyección y posterior coloquio con el público tendrá lugar a las 20:00h en el Teatro Cervantes de Almería[..]\nhttps://www.turismodealmeria.org/evento/encuentros-con-directores-de-cine-2/
URL:https://www.turismodealmeria.org/evento/encuentros-con-directores-de-cine-2/
END:VEVENT
END:VCALENDAR