BEGIN:VCALENDAR
VERSION:2.0
PRODID:-//eventon.com NONSGML v1.0//EN
BEGIN:VEVENT
UID:69eb9aa157927
DTSTAMP:20260424T183025
DTSTART:20260109T220000Z
DTEND:20260109T235000Z
TZID:Europe/Madrid
LOCATION:Port of Spain Parque de Nicolás Salmerón\,  20\,  04002 Almería
SUMMARY:Las Legañas
DESCRIPTION: Las Legañas es una banda cañera pero no extrema\,  donde contundencia y sensibilidad conviven con reivindicación y esperanza’. Hacen un rock alternativo sin etiquetas de temas propios en español. Fecha: viernes 9 de enero de 2026 a las 22:00h. Lugar: Port Of Spain Precio: No Socios: 10\, 00€ Socios: 3\, 00€ Compra de entradas aquí\nhttps://www.turismodealmeria.org/evento/las-leganas/
URL:https://www.turismodealmeria.org/evento/las-leganas/
END:VEVENT
END:VCALENDAR