BEGIN:VCALENDAR
VERSION:2.0
PRODID:-//eventon.com NONSGML v1.0//EN
BEGIN:VEVENT
UID:69eb9af2d2abd
DTSTAMP:20260424T183146
DTSTART:20260131T100000Z
DTEND:20260131T140000Z
TZID:Europe/Madrid
LOCATION:Parque Nicolás Salmerón Ctra. de Málaga\,  04002 Almería
SUMMARY:Nuestro Rastro - Enero 2026
DESCRIPTION: Nuestro Rastro vuelve el sábado 31 de enero de 2026 en el Parque Nicolás Salmerón de Almería. Este evento mensual dedicado a las antigüedades\,  pintura y artesanía se celebra el último sábado de cada mes\,  en horario de 10:00 a 14:00. Disfruta de una jornada llena de creatividad\,  historia y[..]\nhttps://www.turismodealmeria.org/evento/nuestro-rastro-enero-2026/
URL:https://www.turismodealmeria.org/evento/nuestro-rastro-enero-2026/
END:VEVENT
END:VCALENDAR