BEGIN:VCALENDAR
VERSION:2.0
PRODID:-//eventon.com NONSGML v1.0//EN
BEGIN:VEVENT
UID:69ea5e0ae511e
DTSTAMP:20260423T195938
DTSTART:20260508T100000Z
DTEND:20260508T120000Z
TZID:Europe/Madrid
LOCATION:Plaza Vieja Convento de Santa Clara\,  Plaza de la Constitución\,  04071 Almería\,  España
SUMMARY:Visita las Casas Consistoriales
DESCRIPTION: El Ayuntamiento de Almería organiza visitas guiadas a las Casas Consistoriales\,  con personal municipal experto en la Historia y Patrimonio de Almería\,  quienes explicarán la reciente restauración del edificio. Las visitas están dirigidas al público general y se realizan los viernes a las 10:00h y 12:00h\,  con un máximo de[..]\nhttps://www.turismodealmeria.org/evento/visita-las-casas-consistoriales/var/ri-14.l-L1
URL:https://www.turismodealmeria.org/evento/visita-las-casas-consistoriales/var/ri-14.l-L1
END:VEVENT
END:VCALENDAR