BEGIN:VCALENDAR
VERSION:2.0
PRODID:-//eventon.com NONSGML v1.0//EN
BEGIN:VEVENT
UID:69e7d7c736243
DTSTAMP:20260421T220215
DTSTART:20260419
DTEND:20260419
TZID:Europe/Madrid
LOCATION:UD Almería Stadium C. Alcalde Santiago Martínez Cabrejas\,  5\,  04007 Almería
SUMMARY:UD Almería vs Málaga CF
DESCRIPTION: Partido de fútbol entre UD Almería y Málaga CF.\nhttps://www.turismodealmeria.org/evento/ud-almeria-vs-malaga-cf/
URL:https://www.turismodealmeria.org/evento/ud-almeria-vs-malaga-cf/
END:VEVENT
END:VCALENDAR