BEGIN:VCALENDAR
VERSION:2.0
PRODID:-//eventon.com NONSGML v1.0//EN
BEGIN:VEVENT
UID:69ea34dc6b987
DTSTAMP:20260423T170356
DTSTART:20260426T090000Z
DTEND:20260426T140000Z
TZID:Europe/Madrid
LOCATION:Playa del Palmeral Playa Ciudad Luminosa\,  Almería\,  04007
SUMMARY:XIX Triatlón Ciudad de Almería. Jairo Ruiz
DESCRIPTION: El XIX Triatlón Ciudad de Almería se llevará a cabo el 26 de abril de 2026 en la Playa de El Palmeral. Ven y participa en este emocionante evento deportivo.\nhttps://www.turismodealmeria.org/evento/xix-triatlon-ciudad-de-almeria-jairo-ruiz/
URL:https://www.turismodealmeria.org/evento/xix-triatlon-ciudad-de-almeria-jairo-ruiz/
END:VEVENT
END:VCALENDAR