BEGIN:VCALENDAR
VERSION:2.0
PRODID:-//eventon.com NONSGML v1.0//EN
BEGIN:VEVENT
UID:69ea4948a8502
DTSTAMP:20260423T183104
DTSTART:20260424
DTEND:20260425
TZID:Europe/Madrid
LOCATION:Hotel Barceló Cabo de Gata Urbanización El Toyo\,  C. de los Juegos de Casablanca\,  04131 Retamar\,  Almería
SUMMARY:XIX Congreso de AJDEPLA Almería 2026
DESCRIPTION: El XIX Congreso de AJDEPLA será un evento técnico dedicado al intercambio de conocimiento\,  actualización profesional y análisis de retos en la policía local\,  sin perder de vista la convivencia y compañerismo. El congreso se celebrará en Almería\,  en el entorno incomparable del Cabo de Gata.\nhttps://www.turismodealmeria.org/evento/xix-congreso-de-ajdepla-almeria-2026/
URL:https://www.turismodealmeria.org/evento/xix-congreso-de-ajdepla-almeria-2026/
END:VEVENT
END:VCALENDAR