BEGIN:VCALENDAR
VERSION:2.0
PRODID:-//eventon.com NONSGML v1.0//EN
BEGIN:VEVENT
UID:69e90234728f0
DTSTAMP:20260422T191532
DTSTART:20260318T103000Z
DTEND:20260517T200000Z
TZID:Europe/Madrid
LOCATION:Museo de Arte Doña Pakyta Plaza de Emilio Pérez\,  1\,  04001
SUMMARY:Obra Invitada: 'Amparo' de Sofía Morales Sandoval
DESCRIPTION: Continuamos el ciclo &#8216;Mujeres Artistas Españolas&#8216; con una nueva OBRA INVITADA. En esta ocasión recibimos en este espacio la obra de Sofía Morales Sandoval. Retrato de Amparo (c. 1950). Óleo sobre lienzo. Col. Museo Ibáñez (Olula del Río\,  Almería). Hasta el 17 de mayo. (Hall del Museo de Arte doña[..]\nhttps://www.turismodealmeria.org/evento/obra-invitada-sofia-morales-sandoval/
URL:https://www.turismodealmeria.org/evento/obra-invitada-sofia-morales-sandoval/
END:VEVENT
END:VCALENDAR