BEGIN:VCALENDAR
VERSION:2.0
PRODID:-//eventon.com NONSGML v1.0//EN
BEGIN:VEVENT
UID:69e77e559f7f7
DTSTAMP:20260421T154037
DTSTART:20260523T190000Z
DTEND:20260523T210000Z
TZID:Europe/Madrid
LOCATION:Plaza de Toros de Almería 
SUMMARY:AMAC 2026
DESCRIPTION: Disfruta del evento de moda\,  arte y cultura en la Plaza de Toros de Almería. Compra las entradas en compra aquí las entradas\nhttps://www.turismodealmeria.org/evento/amac-2026/
URL:https://www.turismodealmeria.org/evento/amac-2026/
END:VEVENT
END:VCALENDAR