BEGIN:VCALENDAR
VERSION:2.0
PRODID:-//eventon.com NONSGML v1.0//EN
BEGIN:VEVENT
UID:69e8168e8a399
DTSTAMP:20260422T023006
DTSTART:20260423T200000Z
DTEND:20260502T010000Z
TZID:Europe/Madrid
LOCATION:Mirador de la Rambla 04004 Almería
SUMMARY:Cruz de Mayo 2026 Almería
DESCRIPTION: La Cruz de Mayo 2026 se celebra en Almería del 23 de abril al 2 de mayo. Organizado por varias hermandades\,  el evento tendrá lugar en el Mirador de la Rambla. Ver horarios en la imagen.\nhttps://www.turismodealmeria.org/evento/cruz-de-mayo-2026-almeria/
URL:https://www.turismodealmeria.org/evento/cruz-de-mayo-2026-almeria/
END:VEVENT
END:VCALENDAR