BEGIN:VCALENDAR
VERSION:2.0
PRODID:-//eventon.com NONSGML v1.0//EN
BEGIN:VEVENT
UID:69e77cb86a0d2
DTSTAMP:20260421T153344
DTSTART:20260422T190000Z
DTEND:20260422T210000Z
TZID:Europe/Madrid
LOCATION:Museo de Almería Carretera de Ronda 91\,  entrada por Calle Hermanos Pinzón\,  Almería
SUMMARY:Una conversación con Marga Sánchez a propósito de su libro
DESCRIPTION: Una conversación con Marga Sánchez sobre su libro &#8216;Lo que el cuerpo nos cuenta&#8217;\,  un recorrido físico y político de las mujeres.\nhttps://www.turismodealmeria.org/evento/una-conversacion-con-marga-sanchez-a-proposito-de-su-libro/
URL:https://www.turismodealmeria.org/evento/una-conversacion-con-marga-sanchez-a-proposito-de-su-libro/
END:VEVENT
END:VCALENDAR