BEGIN:VCALENDAR
VERSION:2.0
PRODID:-//eventon.com NONSGML v1.0//EN
BEGIN:VEVENT
UID:69e77dd10151d
DTSTAMP:20260421T153825
DTSTART:20260425T120000Z
DTEND:20260425T140000Z
TZID:Europe/Madrid
LOCATION:Museo de Almería Carretera de Ronda 91\,  entrada por Calle Hermanos Pinzón\,  Almería
SUMMARY:Cine Azul: Proyección de 'Wonka'
DESCRIPTION: Disfruta de una función distendida de la película &#8216;Wonka&#8217; en el Museo de Almería. Este evento incluirá iluminación tenue\,  volumen suave\,  y la posibilidad de levantarse. La entrada es gratuita hasta completar aforo.\nhttps://www.turismodealmeria.org/evento/cine-azul-proyeccion-de-wonka/
URL:https://www.turismodealmeria.org/evento/cine-azul-proyeccion-de-wonka/
END:VEVENT
END:VCALENDAR