BEGIN:VCALENDAR
VERSION:2.0
PRODID:-//eventon.com NONSGML v1.0//EN
BEGIN:VEVENT
UID:69e77dba7628c
DTSTAMP:20260421T153802
DTSTART:20260423T170000Z
DTEND:20260423T190000Z
TZID:Europe/Madrid
LOCATION:Escuela de Arte de Almería Plaza Pablo Cazard 1 - Almería
SUMMARY:Reading Party: Primera Fiesta de la Lectura
DESCRIPTION: Trae tu libro a la primera fiesta de la lectura en el claustro\,  biblioteca y zona de descanso de la escuela. Libros en papel\,  olvida tu móvil. La fiesta eres tú\,  y nosotros&#8230; con nuestros libros. ¡Libérate del móvil y lee!\nhttps://www.turismodealmeria.org/evento/reading-party-primera-fiesta-de-la-lectura/
URL:https://www.turismodealmeria.org/evento/reading-party-primera-fiesta-de-la-lectura/
END:VEVENT
END:VCALENDAR